BEGIN:VCALENDAR
VERSION:2.0
PRODID:icalendar-ruby
CALSCALE:GREGORIAN
METHOD:PUBLISH
BEGIN:VEVENT
DTSTAMP:20260421T090117Z
UID:36-315922@santaclaraumc.com
DTSTART:20270404T180000Z
DTEND:20270404T190000Z
CLASS:PUBLIC
CREATED:20260420T182135
DESCRIPTION:Great fellowship meal\,  snacks\,  coffee and drinks.  Often
 times Birthdays too! 
LAST-MODIFIED:20260420T182135
LOCATION:Inman Hall on Campus
SUMMARY:Fellowship Meal
URL;VALUE=URI:https://www.santaclaraumc.com/events/fellowship-meal--36/2027
 -04-04
END:VEVENT
END:VCALENDAR
