BEGIN:VCALENDAR
VERSION:2.0
PRODID:icalendar-ruby
CALSCALE:GREGORIAN
METHOD:PUBLISH
BEGIN:VEVENT
DTSTAMP:20260421T120431Z
UID:21-315870@santaclaraumc.com
DTSTART:20261101T190000Z
DTEND:20261101T200000Z
CLASS:PUBLIC
CREATED:20260420T182135
DESCRIPTION:Great fellowship meal\,  snacks\,  coffee and drinks. 
LAST-MODIFIED:20260420T182135
LOCATION:Inman Hall on Campus
SUMMARY:Fellowship Meal
URL;VALUE=URI:https://www.santaclaraumc.com/events/fellowship-meal/2026-11-
 01
END:VEVENT
END:VCALENDAR
